BEGIN:VCALENDAR
VERSION:2.0
PRODID:-//ABC Florida East Coast Chapter - ECPv6.15.14//NONSGML v1.0//EN
CALSCALE:GREGORIAN
METHOD:PUBLISH
X-WR-CALNAME:ABC Florida East Coast Chapter
X-ORIGINAL-URL:https://abceastflorida.com
X-WR-CALDESC:Events for ABC Florida East Coast Chapter
REFRESH-INTERVAL;VALUE=DURATION:PT1H
X-Robots-Tag:noindex
X-PUBLISHED-TTL:PT1H
BEGIN:VTIMEZONE
TZID:America/New_York
BEGIN:DAYLIGHT
TZOFFSETFROM:-0500
TZOFFSETTO:-0400
TZNAME:EDT
DTSTART:20210314T070000
END:DAYLIGHT
BEGIN:STANDARD
TZOFFSETFROM:-0400
TZOFFSETTO:-0500
TZNAME:EST
DTSTART:20211107T060000
END:STANDARD
BEGIN:DAYLIGHT
TZOFFSETFROM:-0500
TZOFFSETTO:-0400
TZNAME:EDT
DTSTART:20220313T070000
END:DAYLIGHT
BEGIN:STANDARD
TZOFFSETFROM:-0400
TZOFFSETTO:-0500
TZNAME:EST
DTSTART:20221106T060000
END:STANDARD
BEGIN:DAYLIGHT
TZOFFSETFROM:-0500
TZOFFSETTO:-0400
TZNAME:EDT
DTSTART:20230312T070000
END:DAYLIGHT
BEGIN:STANDARD
TZOFFSETFROM:-0400
TZOFFSETTO:-0500
TZNAME:EST
DTSTART:20231105T060000
END:STANDARD
BEGIN:DAYLIGHT
TZOFFSETFROM:-0500
TZOFFSETTO:-0400
TZNAME:EDT
DTSTART:20240310T070000
END:DAYLIGHT
BEGIN:STANDARD
TZOFFSETFROM:-0400
TZOFFSETTO:-0500
TZNAME:EST
DTSTART:20241103T060000
END:STANDARD
END:VTIMEZONE
BEGIN:VEVENT
DTSTART;TZID=America/New_York:20230418T173000
DTEND;TZID=America/New_York:20230418T173000
DTSTAMP:20260420T060616
CREATED:20230327T210740Z
LAST-MODIFIED:20230328T104923Z
UID:559-1681839000-1681839000@abceastflorida.com
SUMMARY:ABC Space Coast 3rd Tuesday Dinner Meeting
DESCRIPTION:Register Now \n  \nFor more information\, please contact Stefanie Reardon sreardon@abceastflorida.com or call 321-632-3332
URL:https://abceastflorida.com/event/abc-space-coast-3rd-tuesday-dinner-meeting-3/
LOCATION:Holiday Inn Viera-Melbourne Conference Center\, 8298 N. Wickham Road\, Melbourne\, FL\, 32940
END:VEVENT
BEGIN:VEVENT
DTSTART;TZID=America/New_York:20230413T163000
DTEND;TZID=America/New_York:20230413T193000
DTSTAMP:20260420T060616
CREATED:20230113T192433Z
LAST-MODIFIED:20230209T184641Z
UID:479-1681403400-1681414200@abceastflorida.com
SUMMARY:ABC Spring 2023 GC Showcase
DESCRIPTION:  \nRegister Now \n\nThe first hour is MEMBERS ONLY! \nNo refunds\, substitutions or cancelations. \nIf you have any questions\, please contact Jill Siegel jill@abceastflorida.com\, Aimee Pellbring apellbring@abceastflorida.com or call 954-984-0075.
URL:https://abceastflorida.com/event/abc-spring-2023-gc-showcase/
LOCATION:LoanDepot Park\, 501 Marlins Way\, Miami\, Florida\, 33125
END:VEVENT
BEGIN:VEVENT
DTSTART;TZID=America/New_York:20230411T053000
DTEND;TZID=America/New_York:20230411T193000
DTSTAMP:20260420T060616
CREATED:20230321T205813Z
LAST-MODIFIED:20230321T205820Z
UID:555-1681191000-1681241400@abceastflorida.com
SUMMARY:ABC Business Development Night on 2nd Tuesday
DESCRIPTION:  \nRegister Now \n  \nIf you have any questions\, please contact Aimee Pellbring apellbring@abceastflorida.com\, Maegan Cerruti mcerruti@abceastflorida.com or call 954-984-0075.
URL:https://abceastflorida.com/event/abc-business-development-night-on-2nd-tuesday-5/
LOCATION:123 Datura Bar & Kitchen\, 123 Datura Street\, West Palm Beach\, Fl\, 33401
END:VEVENT
BEGIN:VEVENT
DTSTART;TZID=America/New_York:20230404T140000
DTEND;TZID=America/New_York:20230404T170000
DTSTAMP:20260420T060616
CREATED:20230209T214105Z
LAST-MODIFIED:20230209T214105Z
UID:503-1680616800-1680627600@abceastflorida.com
SUMMARY:ABC Institute Career Fair
DESCRIPTION:  \nRegister Now \n  \nDo you want to grow your workforce? ABC is hosting a career fair for students and job seekers interested in the construction industry. This is a FREE event for networking and hiring. Space is limited\, sign up now! \nIf you have any questions\, please contact the ABCI Team at ABCI@WeTrain.org  or call 954-580-2950.
URL:https://abceastflorida.com/event/abc-institute-career-fair/
LOCATION:ABC Institute\, 3720 Coconut Creek Parkway\, Suite H\, Coconut Creek\, Florida\, 33066
END:VEVENT
BEGIN:VEVENT
DTSTART;TZID=America/New_York:20230331T120000
DTEND;TZID=America/New_York:20230331T150000
DTSTAMP:20260420T060616
CREATED:20230310T205637Z
LAST-MODIFIED:20230310T205732Z
UID:546-1680264000-1680274800@abceastflorida.com
SUMMARY:ABC B Social Luncheon
DESCRIPTION:  \nRegister Now \n  \nPlease note this event is for ABC Members Only\nNo refunds or cancellations \nIf you have any questions\, please contact Aimee Pellbring apellbring@abceastflorida.com or call 954-984-0075
URL:https://abceastflorida.com/event/abc-b-social-luncheon-5/
LOCATION:Florida
END:VEVENT
BEGIN:VEVENT
DTSTART;VALUE=DATE:20230331
DTEND;VALUE=DATE:20230401
DTSTAMP:20260420T060616
CREATED:20230126T133442Z
LAST-MODIFIED:20230126T133536Z
UID:492-1680220800-1680307199@abceastflorida.com
SUMMARY:ABC 2023 Excellence in Construction Awards Intent to Compete
DESCRIPTION:CLICK HERE TO DOWNLOAD EIC APPLICATION \nDeadline for the Intent to Compete application is March 31\, 2023 \nEligible projects must have completion date between May 1\, 2022 and May 31\, 2023. \nIf you have any questions\, please contact Jill Siegel jill@abceastflorida.com\, Aimee Pellbring apellbring@abceastflorida.com or call 954-984-0075
URL:https://abceastflorida.com/event/abc-2023-excellence-in-construction-awards-intent-to-compete/
LOCATION:Florida
END:VEVENT
BEGIN:VEVENT
DTSTART;TZID=America/New_York:20230328T180000
DTEND;TZID=America/New_York:20230328T220000
DTSTAMP:20260420T060616
CREATED:20230315T203458Z
LAST-MODIFIED:20230315T203458Z
UID:551-1680026400-1680040800@abceastflorida.com
SUMMARY:ABC Institute Electrical Journeyman Exam Preparation Course
DESCRIPTION:  \nRegister Now \n  \nClasses Begin March 28\, 2023\n8 Weeks (Tuesday and Thursday – 6pm to 10pm) \nIf you have any questions\, please contact Cheryl Heath at 954-580-2950 or abci@wetrain\,org.
URL:https://abceastflorida.com/event/abc-institute-electrical-journeyman-exam-preparation-course/
LOCATION:ABC Institute\, 3720 Coconut Creek Parkway\, Suite H\, Coconut Creek\, Florida\, 33066
END:VEVENT
BEGIN:VEVENT
DTSTART;TZID=America/New_York:20230321T160000
DTEND;TZID=America/New_York:20230321T190000
DTSTAMP:20260420T060616
CREATED:20230210T171355Z
LAST-MODIFIED:20230210T171355Z
UID:506-1679414400-1679425200@abceastflorida.com
SUMMARY:ABC Space Coast Networking 3rd Tuesday
DESCRIPTION:  \nRegister Now \n  \nAdvance registration required. ABC Members ONLY. No refunds\n \nFor more information\, please contact Stefanie Reardon sreardon@abceastflorida.com or call 321-632-3332
URL:https://abceastflorida.com/event/abc-space-coast-networking-3rd-tuesday/
LOCATION:The Backyard Games and Eatery\, 5270 N Highway\, Palm Shores\, Fl\, 32940
END:VEVENT
BEGIN:VEVENT
DTSTART;TZID=America/New_York:20230316T083000
DTEND;TZID=America/New_York:20230316T100000
DTSTAMP:20260420T060616
CREATED:20230310T171636Z
LAST-MODIFIED:20230313T180043Z
UID:538-1678955400-1678960800@abceastflorida.com
SUMMARY:ABC Institute Monthly Safety Breakfast
DESCRIPTION:OSHA LOGS\, ONLINE PLATFORMS AND HOW TO LOWER YOUR EXPERIENCE MODIFICATION RATE \nCLICK HERE TO DOWNLOAD EVENT FLYER \nRegister with Ladd Henley lhenley@WeTrain.org \n 
URL:https://abceastflorida.com/event/abc-institute-monthly-safety-breakfast/
LOCATION:ABC Institute\, 3720 Coconut Creek Parkway\, Suite H\, Coconut Creek\, Florida\, 33066
END:VEVENT
BEGIN:VEVENT
DTSTART;VALUE=DATE:20230315
DTEND;VALUE=DATE:20230318
DTSTAMP:20260420T060616
CREATED:20230310T180919Z
LAST-MODIFIED:20230310T181112Z
UID:540-1678838400-1679097599@abceastflorida.com
SUMMARY:ABC Convention and National Construction Management Competition
DESCRIPTION:
URL:https://abceastflorida.com/event/abc-convention-and-national-construction-management-competition/
LOCATION:Gaylord Palms Resort and Convention Center\, 6000 W. Osceola Parkway\, Kissimmee\, Fl\, 34746
END:VEVENT
BEGIN:VEVENT
DTSTART;TZID=America/New_York:20230314T173000
DTEND;TZID=America/New_York:20230314T193000
DTSTAMP:20260420T060616
CREATED:20230217T194850Z
LAST-MODIFIED:20230217T194916Z
UID:515-1678815000-1678822200@abceastflorida.com
SUMMARY:ABC Business Development Night  on 2nd Tuesday
DESCRIPTION:  \nRegister Now \n  \nIf you have any questions\, please contact Aimee Pellbring apellbring@abceastflorida.com or call 954-984-0075. \n 
URL:https://abceastflorida.com/event/abc-business-development-night-on-2nd-tuesday-4/
LOCATION:Bay 13 Brewery and Kitchen\, 65 Alhambra Plaza\, Coral Gables\, Fl\, 33134
END:VEVENT
BEGIN:VEVENT
DTSTART;VALUE=DATE:20230308
DTEND;VALUE=DATE:20230310
DTSTAMP:20260420T060616
CREATED:20230105T140125Z
LAST-MODIFIED:20230105T140125Z
UID:449-1678233600-1678406399@abceastflorida.com
SUMMARY:ABC 2023 Tallahassee Legislative Conference
DESCRIPTION:  \nRegister Now \n  \nWednesday 03/8/23                                                                                                                                                        \n11:00am Registration Opens / 11:30pm Briefing Luncheon\n2:00pm Capitol Visits\n5:30pm Cocktail Reception \nThursday 03/9/23\n7:30am Registration Opens / 8:00am Board Meeting and Breakfast\n9:00am Capitol Visits \nFor more information\, contact events@abceastflorida.com\, or call 954-984-0075.
URL:https://abceastflorida.com/event/abc-2023-tallahassee-legislative-conference/
LOCATION:Doubletree by Hilton Tallahassee\, 101 South Adam Street\, Tallahassee\, FL\, 32301\, United States
END:VEVENT
BEGIN:VEVENT
DTSTART;TZID=America/New_York:20230303T113000
DTEND;TZID=America/New_York:20230303T140000
DTSTAMP:20260420T060616
CREATED:20230130T161958Z
LAST-MODIFIED:20230130T172733Z
UID:494-1677843000-1677852000@abceastflorida.com
SUMMARY:ABC Treasure Coast Lunch Meeting
DESCRIPTION:  \nRegister Now \n  \nFor more information\, please contact Stefanie Reardon sreardon@abceastflorida.com or call 772-244-8511.
URL:https://abceastflorida.com/event/abc-treasure-coast-lunch-meeting/
LOCATION:Monarch Country Club\, 1801 SW Monarch Club Drive\, Palm City\, Florida\, 34990
END:VEVENT
BEGIN:VEVENT
DTSTART;TZID=America/New_York:20230302T180000
DTEND;TZID=America/New_York:20230302T210000
DTSTAMP:20260420T060616
CREATED:20230111T211414Z
LAST-MODIFIED:20230111T211414Z
UID:474-1677780000-1677790800@abceastflorida.com
SUMMARY:ABC Young Professionals Hockey Game Night
DESCRIPTION:  \nRegister Now \n\n6:00pm – Networking\n7:00pm – Hockey Game (Florida Panthers vs. Nashville Predators) \nTickets include entry\, parking\, and unlimited food\, soft drinks\, beer + wine \nIf you have any questions\, please contact Jill Siegel jill@abceastflorida.com\, Aimee Pellbring apellbring@abceastflorida.com or call 954-984-0075
URL:https://abceastflorida.com/event/abc-young-professionals-hockey-game-night/
LOCATION:FLA Live Arena\, 1 Panther Pkwy\, Sunrise\, Florida\, 33323
END:VEVENT
BEGIN:VEVENT
DTSTART;TZID=America/New_York:20230227T100000
DTEND;TZID=America/New_York:20230227T120000
DTSTAMP:20260420T060616
CREATED:20230130T171805Z
LAST-MODIFIED:20230130T171837Z
UID:497-1677492000-1677499200@abceastflorida.com
SUMMARY:ABC SALTing and OSHA Seminars
DESCRIPTION:  \nRegister Now \n  \nIf you have any questions\, please contact Ashley Gobeo agobeo@abceastflorida.com or call 954-984-0075. \n 
URL:https://abceastflorida.com/event/abc-salting-and-osha-seminars/
LOCATION:ABC Institute\, 3720 Coconut Creek Parkway\, Suite H\, Coconut Creek\, Florida\, 33066
END:VEVENT
BEGIN:VEVENT
DTSTART;TZID=America/New_York:20230221T173000
DTEND;TZID=America/New_York:20230221T200000
DTSTAMP:20260420T060616
CREATED:20230125T154449Z
LAST-MODIFIED:20230126T131818Z
UID:486-1677000600-1677009600@abceastflorida.com
SUMMARY:ABC Space Coast 3rd Tuesday Dinner Meeting
DESCRIPTION:  \nRegister Now \n\nFor more information\, please contact Stefanie Reardon sreardon@abceastflorida.com or call 321-632-3332
URL:https://abceastflorida.com/event/abc-space-coast-3rd-tuesday-dinner-meeting-2/
LOCATION:Space Coast Convention Center\, 301 Tucker Lan\, Cocoa\, Florida\, 32926
END:VEVENT
BEGIN:VEVENT
DTSTART;TZID=America/New_York:20230217T110000
DTEND;TZID=America/New_York:20230217T123000
DTSTAMP:20260420T060616
CREATED:20230214T141433Z
LAST-MODIFIED:20230214T141433Z
UID:513-1676631600-1676637000@abceastflorida.com
SUMMARY:Fundraising Reception Honoring Congresswoman Lisa McClain (MI-9)
DESCRIPTION:CLICK HERE TO DOWNLOAD FLYER
URL:https://abceastflorida.com/event/fundraising-reception-honoring-congresswoman-lisa-mcclain-mi-9/
LOCATION:Florida
END:VEVENT
BEGIN:VEVENT
DTSTART;TZID=America/New_York:20230216T120000
DTEND;TZID=America/New_York:20230216T170000
DTSTAMP:20260420T060616
CREATED:20230105T140704Z
LAST-MODIFIED:20230105T140704Z
UID:452-1676548800-1676566800@abceastflorida.com
SUMMARY:Taste of ABC 2023 Spring Golf Tournament
DESCRIPTION:Register Now \n  \nRegistration – 12:00 PM\nShotgun Start – 1:00 PM\nClick Here to Add to Outlook \nIf you have any questions\, please contact Jill Siegel jill@abceastflorida.com\, Aimee Pellbring apellbring@abceastflorida.com or call 954-984-0075. \n 
URL:https://abceastflorida.com/event/taste-of-abc-2023-spring-golf-tournament/
LOCATION:Jacaranda Golf Club\, 9200 West Broward Boulevard\, Plantation\, Florida\, 33324
END:VEVENT
BEGIN:VEVENT
DTSTART;TZID=America/New_York:20230209T080000
DTEND;TZID=America/New_York:20230209T180000
DTSTAMP:20260420T060616
CREATED:20221206T180446Z
LAST-MODIFIED:20221208T143440Z
UID:420-1675929600-1675965600@abceastflorida.com
SUMMARY:ABC-FEC 2nd Annual Technology Conference 2023
DESCRIPTION:Register Now
URL:https://abceastflorida.com/event/abc-fec-2nd-annual-technology-conference-2023/
LOCATION:DoubleTree by Hilton Hotel Miami Airport\, 711 NW 72nd Avenue\, Miami\, Florida\, 33126
END:VEVENT
BEGIN:VEVENT
DTSTART;VALUE=DATE:20230206
DTEND;VALUE=DATE:20230207
DTSTAMP:20260420T060616
CREATED:20230104T133534Z
LAST-MODIFIED:20230104T134047Z
UID:442-1675641600-1675727999@abceastflorida.com
SUMMARY:ABC Project Management Institute
DESCRIPTION:2-WEEK COURSE \nWEEK 1: Feb 6-10 \nWEEK 2: March 21-24 \n  \nCLICK HERE TO DOWNLOAD FLYER
URL:https://abceastflorida.com/event/abc-project-management-institute/
LOCATION:Florida
END:VEVENT
BEGIN:VEVENT
DTSTART;TZID=America/New_York:20230202T113000
DTEND;TZID=America/New_York:20230202T190000
DTSTAMP:20260420T060616
CREATED:20221013T205155Z
LAST-MODIFIED:20221013T205155Z
UID:360-1675337400-1675364400@abceastflorida.com
SUMMARY:Marcum Florida Construction Summit
DESCRIPTION:
URL:https://abceastflorida.com/event/marcum-florida-construction-summit/
LOCATION:Seminole Hard Rock Hotel & Casino\, 1 Seminole Way\, Hollywood\, Florida\, 33314
END:VEVENT
BEGIN:VEVENT
DTSTART;TZID=America/New_York:20230127T120000
DTEND;TZID=America/New_York:20230127T150000
DTSTAMP:20260420T060616
CREATED:20230103T192826Z
LAST-MODIFIED:20230103T192826Z
UID:437-1674820800-1674831600@abceastflorida.com
SUMMARY:ABC B Social Luncheon
DESCRIPTION:  \nRegister Now \n  \nParking available in nearby surface lots and garages \nPlease note this event is for ABC Members Only\nNo refunds or cancellations \nIf you have any questions\, please contact Jill Siegel jill@abceastflorida.com\, Aimee Pellbring apellbring@abceastflorida.com or call 954-984-0075
URL:https://abceastflorida.com/event/abc-b-social-luncheon-4/
LOCATION:Finka Table & Tap\, 14690 SW 26th Street\, Miami\, Florida\, 33175
END:VEVENT
BEGIN:VEVENT
DTSTART;TZID=America/New_York:20230126T170000
DTEND;TZID=America/New_York:20230126T200000
DTSTAMP:20260420T060616
CREATED:20230105T135725Z
LAST-MODIFIED:20230105T135725Z
UID:446-1674752400-1674763200@abceastflorida.com
SUMMARY:ABC Young Professionals Axe Throwing Event
DESCRIPTION:Register Now \n  \nTHIS EVENT IS 21+ \nNearby street parking is limited; we encourage carpooling with colleagues if possible \nIf you have any questions\, please contact Jill Siegel jill@abceastflorida.com\, Aimee Pellbring apellbring@abceastflorida.com or call 954-984-0075
URL:https://abceastflorida.com/event/abc-young-professionals-axe-throwing-event/
LOCATION:Chops & Hops Axe Throwing Lodge\, 702 NE 1st Avenue\, Fort Lauderdale\, Florida\, 33304
END:VEVENT
BEGIN:VEVENT
DTSTART;TZID=America/New_York:20230117T163000
DTEND;TZID=America/New_York:20230117T190000
DTSTAMP:20260420T060616
CREATED:20221208T202912Z
LAST-MODIFIED:20221208T202912Z
UID:425-1673973000-1673982000@abceastflorida.com
SUMMARY:ABC FEC Space Coast Networking 3rd Tuesday
DESCRIPTION:  \n  \nRegister Now
URL:https://abceastflorida.com/event/abc-fec-space-coast-networking-3rd-tuesday/
LOCATION:G&G Roofing Construction\, Inc.\, 455 Gus Hipp Boulevard\, Rockledge\, Florida\, 32955
END:VEVENT
BEGIN:VEVENT
DTSTART;TZID=America/New_York:20230110T173000
DTEND;TZID=America/New_York:20230110T193000
DTSTAMP:20260420T060616
CREATED:20221208T211118Z
LAST-MODIFIED:20221208T211317Z
UID:428-1673371800-1673379000@abceastflorida.com
SUMMARY:ABC Business Development Night on 2nd Tuesday
DESCRIPTION:  \nRegister Now
URL:https://abceastflorida.com/event/abc-business-development-night-on-2nd-tuesday-3/
LOCATION:SALT7\, 500 E Las Olas Blvd\, Fort Lauderdale\, Florida\, 33301
END:VEVENT
BEGIN:VEVENT
DTSTART;TZID=America/New_York:20221213T173000
DTEND;TZID=America/New_York:20221213T193000
DTSTAMP:20260420T060616
CREATED:20221027T163806Z
LAST-MODIFIED:20221027T163806Z
UID:404-1670952600-1670959800@abceastflorida.com
SUMMARY:ABC 2022 Holiday Installation Celebration
DESCRIPTION:  \nRegister Now
URL:https://abceastflorida.com/event/abc-2022-holiday-installation-celebration/
LOCATION:Bergeron\, 21111 SW 16th Street\, Weston\, Florida\, 33332
END:VEVENT
BEGIN:VEVENT
DTSTART;TZID=America/New_York:20221210T110000
DTEND;TZID=America/New_York:20221210T130000
DTSTAMP:20260420T060616
CREATED:20221013T193400Z
LAST-MODIFIED:20221013T193412Z
UID:354-1670670000-1670677200@abceastflorida.com
SUMMARY:ABC Space Coast Handlebars for the Holidays
DESCRIPTION:
URL:https://abceastflorida.com/event/abc-space-coast-handlebars-for-the-holidays-2/
LOCATION:Brevard County Sheriff’s Work Farm\, 2955 Pluckebaum Road\, Cocoa\, Florida\, 32936
END:VEVENT
BEGIN:VEVENT
DTSTART;TZID=America/New_York:20221209T180000
DTEND;TZID=America/New_York:20221209T210000
DTSTAMP:20260420T060616
CREATED:20221013T201546Z
LAST-MODIFIED:20221013T201546Z
UID:357-1670608800-1670619600@abceastflorida.com
SUMMARY:ABC Young Professionals Holiday Riverboat Cruise
DESCRIPTION:
URL:https://abceastflorida.com/event/abc-young-professionals-holiday-riverboat-cruise/
LOCATION:Dock BEHIND Riverside Hotel\, 335 SE 6th Avenue\, Fort Lauderdale\, Florida\, 33301
END:VEVENT
BEGIN:VEVENT
DTSTART;TZID=America/New_York:20221202T113000
DTEND;TZID=America/New_York:20221202T133000
DTSTAMP:20260420T060616
CREATED:20221101T135946Z
LAST-MODIFIED:20221101T135946Z
UID:409-1669980600-1669987800@abceastflorida.com
SUMMARY:ABC Treasure Coast Annual Holiday Lunch
DESCRIPTION:Register Now
URL:https://abceastflorida.com/event/abc-treasure-coast-annual-holiday-lunch/
LOCATION:Sailor’s Return\, 625 SW Anchorage Way\, Stuart\, Florida\, 34994
END:VEVENT
BEGIN:VEVENT
DTSTART;TZID=America/New_York:20221118T120000
DTEND;TZID=America/New_York:20221118T150000
DTSTAMP:20260420T060616
CREATED:20221109T174958Z
LAST-MODIFIED:20221109T175742Z
UID:413-1668772800-1668783600@abceastflorida.com
SUMMARY:ABC B Social Luncheon
DESCRIPTION:  \nRegister Now
URL:https://abceastflorida.com/event/abc-b-social-luncheon-3/
LOCATION:Casa D’Angelo Ristorante\, 171 E Palmetto Park Road\, Boca Raton\, Florida\, 33432
END:VEVENT
END:VCALENDAR